BEGIN:VCALENDAR
VERSION:2.0
PRODID:-//Intergroup Council of West Central Arkansas - ECPv6.15.20//NONSGML v1.0//EN
CALSCALE:GREGORIAN
METHOD:PUBLISH
X-ORIGINAL-URL:https://aawcar.org
X-WR-CALDESC:Events for Intergroup Council of West Central Arkansas
REFRESH-INTERVAL;VALUE=DURATION:PT1H
X-Robots-Tag:noindex
X-PUBLISHED-TTL:PT1H
BEGIN:VTIMEZONE
TZID:UTC
BEGIN:STANDARD
TZOFFSETFROM:+0000
TZOFFSETTO:+0000
TZNAME:UTC
DTSTART:20250101T000000
END:STANDARD
END:VTIMEZONE
BEGIN:VEVENT
DTSTART;TZID=UTC:20260203T100000
DTEND;TZID=UTC:20260203T120000
DTSTAMP:20260424T055858
CREATED:20260203T150838Z
LAST-MODIFIED:20260203T150839Z
UID:57502-1770112800-1770120000@aawcar.org
SUMMARY:Bake Sale Fridays
DESCRIPTION:Buy and sell your baked goods to help fund cool events.
URL:https://aawcar.org/event/bake-sale-fridays/
ATTACH;FMTTYPE=image/jpeg:https://aawcar.org/wp-content/uploads/2026/02/IMG_8481-scaled.jpeg
END:VEVENT
BEGIN:VEVENT
DTSTART;TZID=UTC:20260719T180000
DTEND;TZID=UTC:20260719T200000
DTSTAMP:20260424T055858
CREATED:20260126T220204Z
LAST-MODIFIED:20260126T220204Z
UID:57439-1784484000-1784491200@aawcar.org
SUMMARY:Grant County Group
DESCRIPTION:Grant County Group Potluck\, Speaker Meeting
URL:https://aawcar.org/event/grant-county-group-2/
LOCATION:1511 S Rose St\, 1511 S Rose St\, Sheridan\, 72150
ATTACH;FMTTYPE=image/png:https://aawcar.org/wp-content/uploads/2026/01/My-project-2.png
END:VEVENT
END:VCALENDAR