BEGIN:VCALENDAR
VERSION:2.0
PRODID:-//Intergroup Council of West Central Arkansas - ECPv6.15.20//NONSGML v1.0//EN
CALSCALE:GREGORIAN
METHOD:PUBLISH
X-WR-CALNAME:Intergroup Council of West Central Arkansas
X-ORIGINAL-URL:https://aawcar.org
X-WR-CALDESC:Events for Intergroup Council of West Central Arkansas
REFRESH-INTERVAL;VALUE=DURATION:PT1H
X-Robots-Tag:noindex
X-PUBLISHED-TTL:PT1H
BEGIN:VTIMEZONE
TZID:UTC
BEGIN:STANDARD
TZOFFSETFROM:+0000
TZOFFSETTO:+0000
TZNAME:UTC
DTSTART:20250101T000000
END:STANDARD
END:VTIMEZONE
BEGIN:VEVENT
DTSTART;TZID=UTC:20260426T180000
DTEND;TZID=UTC:20260426T200000
DTSTAMP:20260424T062019
CREATED:20260128T140249Z
LAST-MODIFIED:20260128T140249Z
UID:57462-1777226400-1777233600@aawcar.org
SUMMARY:Grant County Group
DESCRIPTION:Potluck\, Speaker meeting
URL:https://aawcar.org/event/grant-county-group-3/
LOCATION:1511 S Rose St\, 1511 S Rose St\, Sheridan\, 72150
CATEGORIES:Birthday Night
ATTACH;FMTTYPE=image/png:https://aawcar.org/wp-content/uploads/2026/01/My-project-4.png
END:VEVENT
BEGIN:VEVENT
DTSTART;TZID=UTC:20260301T140000
DTEND;TZID=UTC:20260301T150000
DTSTAMP:20260424T062019
CREATED:20260115T203146Z
LAST-MODIFIED:20260202T234726Z
UID:57377-1772373600-1772377200@aawcar.org
SUMMARY:District 10 Corrections Workshop
DESCRIPTION:District 10 Corrections Workshop \n 
URL:https://aawcar.org/event/district-10-corrections-workshop/
END:VEVENT
BEGIN:VEVENT
DTSTART;TZID=UTC:20260301T133000
DTEND;TZID=UTC:20260301T173000
DTSTAMP:20260424T062019
CREATED:20251229T134932Z
LAST-MODIFIED:20251229T134933Z
UID:57280-1772371800-1772386200@aawcar.org
SUMMARY:DISTRICT 8 QUARTERLY COMMITTEE AND BUSINESS MEETINGS
DESCRIPTION:This is District 8’s quarterly business and committee meetings.
URL:https://aawcar.org/event/district-8-quarterly-committee-and-business-meetings/
LOCATION:411 Sellers St.\, 411 Sellers\, Hot Springs\, AR\, 71901\, United States
ATTACH;FMTTYPE=image/jpeg:https://aawcar.org/wp-content/uploads/2025/12/DISTRICT-8-QUARTERLY-COMMITTEE-AND-BUSINESSS-MEETINGS.jpg
END:VEVENT
BEGIN:VEVENT
DTSTART;TZID=UTC:20260217T150000
DTEND;TZID=UTC:20260217T173000
DTSTAMP:20260424T062019
CREATED:20260203T150756Z
LAST-MODIFIED:20260203T150756Z
UID:57491-1771340400-1771349400@aawcar.org
SUMMARY:St. Patty’s Day!
DESCRIPTION:Sober St. Patty’s Day event with food! \n411 Sellers Hot Springs \n3-5:30
URL:https://aawcar.org/event/st-pattys-day/
ATTACH;FMTTYPE=image/jpeg:https://aawcar.org/wp-content/uploads/2026/02/IMG_8480-1-scaled.jpeg
END:VEVENT
END:VCALENDAR